Package: Repitools Version: 1.50.0 Command: E:\biocbuild\bbs-3.19-bioc\R\bin\R.exe CMD INSTALL Repitools StartedAt: 2024-10-16 16:32:39 -0400 (Wed, 16 Oct 2024) EndedAt: 2024-10-16 16:34:23 -0400 (Wed, 16 Oct 2024) EllapsedTime: 103.6 seconds RetCode: 0 Status: OK