Package: Rgraphviz Version: 2.48.0 Command: rm -rf Rgraphviz.buildbin-libdir && mkdir Rgraphviz.buildbin-libdir && /Users/biocbuild/BBS/utils/build-universal.sh Rgraphviz_2.48.0.tar.gz /Library/Frameworks/R.framework/Resources/bin/R Rgraphviz.buildbin-libdir StartedAt: 2024-10-17 16:59:17 -0400 (Thu, 17 Oct 2024) EndedAt: 2024-10-17 17:04:20 -0400 (Thu, 17 Oct 2024) EllapsedTime: 302.4 seconds RetCode: 0 Status: OK PackageFile: Rgraphviz_2.48.0.tgz PackageFileSize: 1.757 MiB