Package: Rgraphviz Version: 2.48.0 Command: /Library/Frameworks/R.framework/Resources/bin/R CMD build --keep-empty-dirs --no-resave-data Rgraphviz StartedAt: 2024-10-16 22:34:03 -0400 (Wed, 16 Oct 2024) EndedAt: 2024-10-16 22:39:49 -0400 (Wed, 16 Oct 2024) EllapsedTime: 346.0 seconds RetCode: 0 Status: OK PackageFile: Rgraphviz_2.48.0.tar.gz PackageFileSize: 7.329 MiB