Package: Rgraphviz Version: 2.48.0 Command: /Library/Frameworks/R.framework/Resources/bin/R CMD check --install=check:Rgraphviz.install-out.txt --library=/Library/Frameworks/R.framework/Resources/library --no-vignettes --timings Rgraphviz_2.48.0.tar.gz StartedAt: 2024-10-17 11:51:05 -0400 (Thu, 17 Oct 2024) EndedAt: 2024-10-17 11:52:40 -0400 (Thu, 17 Oct 2024) EllapsedTime: 95.2 seconds RetCode: 0 Status: WARNINGS CheckDir: Rgraphviz.Rcheck Warnings: 2