Package: Rgraphviz Version: 2.48.0 Command: /Library/Frameworks/R.framework/Resources/bin/R CMD INSTALL Rgraphviz StartedAt: 2024-10-16 15:09:04 -0400 (Wed, 16 Oct 2024) EndedAt: 2024-10-16 15:12:04 -0400 (Wed, 16 Oct 2024) EllapsedTime: 179.7 seconds RetCode: 0 Status: OK