Package: Rgraphviz Version: 2.48.0 Command: rm -rf Rgraphviz.buildbin-libdir && mkdir Rgraphviz.buildbin-libdir && E:\biocbuild\bbs-3.19-bioc\R\bin\R.exe CMD INSTALL --build --library=Rgraphviz.buildbin-libdir Rgraphviz_2.48.0.tar.gz StartedAt: 2024-10-17 08:29:00 -0400 (Thu, 17 Oct 2024) EndedAt: 2024-10-17 08:39:31 -0400 (Thu, 17 Oct 2024) EllapsedTime: 630.5 seconds RetCode: 0 Status: OK PackageFile: Rgraphviz_2.48.0.zip PackageFileSize: 1.39 MiB