Package: Rgraphviz Version: 2.48.0 Command: E:\biocbuild\bbs-3.19-bioc\R\bin\R.exe CMD check --no-multiarch --install=check:Rgraphviz.install-out.txt --library=E:\biocbuild\bbs-3.19-bioc\R\library --no-vignettes --timings Rgraphviz_2.48.0.tar.gz StartedAt: 2024-10-17 05:02:30 -0400 (Thu, 17 Oct 2024) EndedAt: 2024-10-17 05:03:36 -0400 (Thu, 17 Oct 2024) EllapsedTime: 66.2 seconds RetCode: 0 Status: WARNINGS CheckDir: Rgraphviz.Rcheck Warnings: 1