Package: Rmagpie Version: 1.60.0 Command: /Library/Frameworks/R.framework/Resources/bin/R CMD build --keep-empty-dirs --no-resave-data Rmagpie StartedAt: 2024-10-17 07:46:26 -0400 (Thu, 17 Oct 2024) EndedAt: 2024-10-17 07:47:13 -0400 (Thu, 17 Oct 2024) EllapsedTime: 47.2 seconds RetCode: 0 Status: OK PackageFile: Rmagpie_1.60.0.tar.gz PackageFileSize: 465.1 KiB