Package: Rmagpie Version: 1.60.0 Command: rm -rf Rmagpie.buildbin-libdir && mkdir Rmagpie.buildbin-libdir && /Users/biocbuild/BBS/utils/build-universal.sh Rmagpie_1.60.0.tar.gz /Library/Frameworks/R.framework/Resources/bin/R Rmagpie.buildbin-libdir StartedAt: 2024-10-17 17:00:57 -0400 (Thu, 17 Oct 2024) EndedAt: 2024-10-17 17:01:33 -0400 (Thu, 17 Oct 2024) EllapsedTime: 35.8 seconds RetCode: 0 Status: OK PackageFile: Rmagpie_1.60.0.tgz PackageFileSize: 860.3 KiB