Package: Rmagpie Version: 1.60.0 Command: /Library/Frameworks/R.framework/Resources/bin/R CMD build --keep-empty-dirs --no-resave-data Rmagpie StartedAt: 2024-10-16 22:38:21 -0400 (Wed, 16 Oct 2024) EndedAt: 2024-10-16 22:40:02 -0400 (Wed, 16 Oct 2024) EllapsedTime: 100.9 seconds RetCode: 0 Status: OK PackageFile: Rmagpie_1.60.0.tar.gz PackageFileSize: 465.1 KiB