Package: Rmagpie Version: 1.60.0 Command: rm -rf Rmagpie.buildbin-libdir && mkdir Rmagpie.buildbin-libdir && F:\biocbuild\bbs-3.19-bioc\R\bin\R.exe CMD INSTALL --build --library=Rmagpie.buildbin-libdir Rmagpie_1.60.0.tar.gz StartedAt: 2024-06-27 08:48:06 -0400 (Thu, 27 Jun 2024) EndedAt: 2024-06-27 08:48:34 -0400 (Thu, 27 Jun 2024) EllapsedTime: 28.1 seconds RetCode: 0 Status: OK PackageFile: Rmagpie_1.60.0.zip PackageFileSize: 689.8 KiB