Package: Rnits Version: 1.38.0 Command: rm -rf Rnits.buildbin-libdir && mkdir Rnits.buildbin-libdir && /Users/biocbuild/BBS/utils/build-universal.sh Rnits_1.38.0.tar.gz /Library/Frameworks/R.framework/Resources/bin/R Rnits.buildbin-libdir StartedAt: 2024-05-27 01:57:32 -0400 (Mon, 27 May 2024) EndedAt: 2024-05-27 01:57:48 -0400 (Mon, 27 May 2024) EllapsedTime: 16.2 seconds RetCode: 0 Status: OK PackageFile: Rnits_1.38.0.tgz PackageFileSize: 953 KiB