Package: Rtpca Version: 1.14.0 Command: rm -rf Rtpca.buildbin-libdir && mkdir Rtpca.buildbin-libdir && /Users/biocbuild/BBS/utils/build-universal.sh Rtpca_1.14.0.tar.gz /Library/Frameworks/R.framework/Resources/bin/R Rtpca.buildbin-libdir StartedAt: 2024-10-18 20:29:09 -0400 (Fri, 18 Oct 2024) EndedAt: 2024-10-18 20:29:21 -0400 (Fri, 18 Oct 2024) EllapsedTime: 11.3 seconds RetCode: 0 Status: OK PackageFile: Rtpca_1.14.0.tgz PackageFileSize: 2.377 MiB