Package: Rtpca Version: 1.14.0 Command: /Library/Frameworks/R.framework/Resources/bin/R CMD build --keep-empty-dirs --no-resave-data Rtpca StartedAt: 2024-06-10 03:51:04 -0400 (Mon, 10 Jun 2024) EndedAt: 2024-06-10 03:51:48 -0400 (Mon, 10 Jun 2024) EllapsedTime: 44.9 seconds RetCode: 0 Status: OK PackageFile: Rtpca_1.14.0.tar.gz PackageFileSize: 2.12 MiB