Package: Rtreemix Version: 1.66.0 Command: /Library/Frameworks/R.framework/Resources/bin/R CMD check --install=check:Rtreemix.install-out.txt --library=/Library/Frameworks/R.framework/Resources/library --no-vignettes --timings Rtreemix_1.66.0.tar.gz StartedAt: 2024-10-17 12:19:37 -0400 (Thu, 17 Oct 2024) EndedAt: 2024-10-17 12:21:53 -0400 (Thu, 17 Oct 2024) EllapsedTime: 136.8 seconds RetCode: 0 Status: WARNINGS CheckDir: Rtreemix.Rcheck Warnings: 1