Package: Rtreemix Version: 1.66.0 Command: /home/biocbuild/bbs-3.19-bioc/R/bin/R CMD build --keep-empty-dirs --no-resave-data Rtreemix StartedAt: 2024-10-16 20:34:44 -0400 (Wed, 16 Oct 2024) EndedAt: 2024-10-16 20:35:36 -0400 (Wed, 16 Oct 2024) EllapsedTime: 51.2 seconds RetCode: 0 Status: OK PackageFile: Rtreemix_1.66.0.tar.gz PackageFileSize: 674.6 KiB