Package: Rtreemix Version: 1.66.0 Command: rm -rf Rtreemix.buildbin-libdir && mkdir Rtreemix.buildbin-libdir && F:\biocbuild\bbs-3.19-bioc\R\bin\R.exe CMD INSTALL --build --library=Rtreemix.buildbin-libdir Rtreemix_1.66.0.tar.gz StartedAt: 2024-06-27 08:50:31 -0400 (Thu, 27 Jun 2024) EndedAt: 2024-06-27 08:51:43 -0400 (Thu, 27 Jun 2024) EllapsedTime: 72.1 seconds RetCode: 0 Status: OK PackageFile: Rtreemix_1.66.0.zip PackageFileSize: 1.134 MiB