Package: Rtreemix Version: 1.66.0 Command: F:\biocbuild\bbs-3.19-bioc\R\bin\R.exe CMD check --no-multiarch --install=check:Rtreemix.install-out.txt --library=F:\biocbuild\bbs-3.19-bioc\R\library --no-vignettes --timings Rtreemix_1.66.0.tar.gz StartedAt: 2024-06-27 05:40:54 -0400 (Thu, 27 Jun 2024) EndedAt: 2024-06-27 05:42:35 -0400 (Thu, 27 Jun 2024) EllapsedTime: 100.5 seconds RetCode: 0 Status: WARNINGS CheckDir: Rtreemix.Rcheck Warnings: 1