Package: Rtreemix Version: 1.66.0 Command: rm -rf Rtreemix.buildbin-libdir && mkdir Rtreemix.buildbin-libdir && E:\biocbuild\bbs-3.19-bioc\R\bin\R.exe CMD INSTALL --build --library=Rtreemix.buildbin-libdir Rtreemix_1.66.0.tar.gz StartedAt: 2024-10-17 08:32:38 -0400 (Thu, 17 Oct 2024) EndedAt: 2024-10-17 08:34:04 -0400 (Thu, 17 Oct 2024) EllapsedTime: 86.6 seconds RetCode: 0 Status: OK PackageFile: Rtreemix_1.66.0.zip PackageFileSize: 1.136 MiB