Package: Rvisdiff Version: 1.2.0 Command: /Library/Frameworks/R.framework/Resources/bin/R CMD build --keep-empty-dirs --no-resave-data Rvisdiff StartedAt: 2024-10-16 22:49:19 -0400 (Wed, 16 Oct 2024) EndedAt: 2024-10-16 22:52:01 -0400 (Wed, 16 Oct 2024) EllapsedTime: 162.1 seconds RetCode: 0 Status: OK PackageFile: Rvisdiff_1.2.0.tar.gz PackageFileSize: 1.314 MiB