Package: Rvisdiff Version: 1.2.0 Command: /home/biocbuild/bbs-3.19-bioc/R/bin/R CMD build --keep-empty-dirs --no-resave-data Rvisdiff StartedAt: 2024-10-16 20:35:16 -0400 (Wed, 16 Oct 2024) EndedAt: 2024-10-16 20:36:18 -0400 (Wed, 16 Oct 2024) EllapsedTime: 61.1 seconds RetCode: 0 Status: OK PackageFile: Rvisdiff_1.2.0.tar.gz PackageFileSize: 1.314 MiB