Package: S4Vectors Version: 0.42.1 Command: /Library/Frameworks/R.framework/Resources/bin/R CMD INSTALL S4Vectors StartedAt: 2024-10-16 15:39:48 -0400 (Wed, 16 Oct 2024) EndedAt: 2024-10-16 15:40:15 -0400 (Wed, 16 Oct 2024) EllapsedTime: 27.1 seconds RetCode: 0 Status: OK