Package: S4Vectors Version: 0.42.0 Command: rm -rf S4Vectors.buildbin-libdir && mkdir S4Vectors.buildbin-libdir && /Users/biocbuild/BBS/utils/build-universal.sh S4Vectors_0.42.0.tar.gz /Library/Frameworks/R.framework/Resources/bin/R S4Vectors.buildbin-libdir StartedAt: 2024-06-11 13:00:24 -0400 (Tue, 11 Jun 2024) EndedAt: 2024-06-11 13:01:21 -0400 (Tue, 11 Jun 2024) EllapsedTime: 57.5 seconds RetCode: 0 Status: OK PackageFile: S4Vectors_0.42.0.tgz PackageFileSize: 2.412 MiB