Package: S4Vectors Version: 0.42.0 Command: /home/biocbuild/R/R-beta-2024-04-15_r86425/bin/R CMD build --keep-empty-dirs --no-resave-data S4Vectors StartedAt: 2024-05-09 03:14:59 -0000 (Thu, 09 May 2024) EndedAt: 2024-05-09 03:16:18 -0000 (Thu, 09 May 2024) EllapsedTime: 79.1 seconds RetCode: 0 Status: OK PackageFile: S4Vectors_0.42.0.tar.gz PackageFileSize: 1.039 MiB