Package: S4Vectors Version: 0.42.0 Command: F:\biocbuild\bbs-3.19-bioc\R\bin\R.exe CMD check --no-multiarch --install=check:S4Vectors.install-out.txt --library=F:\biocbuild\bbs-3.19-bioc\R\library --no-vignettes --timings S4Vectors_0.42.0.tar.gz StartedAt: 2024-06-27 05:43:27 -0400 (Thu, 27 Jun 2024) EndedAt: 2024-06-27 05:45:40 -0400 (Thu, 27 Jun 2024) EllapsedTime: 133.0 seconds RetCode: 0 Status: WARNINGS CheckDir: S4Vectors.Rcheck Warnings: 3