Package: S4Vectors Version: 0.42.1 Command: chmod a+r S4Vectors -R && E:\biocbuild\bbs-3.19-bioc\R\bin\R.exe CMD build --keep-empty-dirs --no-resave-data S4Vectors StartedAt: 2024-10-16 21:40:42 -0400 (Wed, 16 Oct 2024) EndedAt: 2024-10-16 21:42:58 -0400 (Wed, 16 Oct 2024) EllapsedTime: 135.5 seconds RetCode: 0 Status: OK PackageFile: S4Vectors_0.42.1.tar.gz PackageFileSize: 856.6 KiB