Package: SBGNview Version: 1.18.0 Command: /Library/Frameworks/R.framework/Resources/bin/R CMD build --keep-empty-dirs --no-resave-data SBGNview StartedAt: 2024-10-17 08:16:30 -0400 (Thu, 17 Oct 2024) EndedAt: 2024-10-17 08:19:30 -0400 (Thu, 17 Oct 2024) EllapsedTime: 180.8 seconds RetCode: 0 Status: OK PackageFile: SBGNview_1.18.0.tar.gz PackageFileSize: 1.676 MiB