Package: SBGNview Version: 1.18.0 Command: /Library/Frameworks/R.framework/Resources/bin/R CMD check --install=check:SBGNview.install-out.txt --library=/Library/Frameworks/R.framework/Resources/library --no-vignettes --timings SBGNview_1.18.0.tar.gz StartedAt: 2024-10-18 10:48:51 -0400 (Fri, 18 Oct 2024) EndedAt: 2024-10-18 10:55:15 -0400 (Fri, 18 Oct 2024) EllapsedTime: 383.5 seconds RetCode: 0 Status: OK CheckDir: SBGNview.Rcheck Warnings: 0