Package: SBGNview Version: 1.18.0 Command: /home/biocbuild/R/R-beta-2024-04-15_r86425/bin/R CMD build --keep-empty-dirs --no-resave-data SBGNview StartedAt: 2024-05-09 03:16:30 -0000 (Thu, 09 May 2024) EndedAt: 2024-05-09 03:19:10 -0000 (Thu, 09 May 2024) EllapsedTime: 160.2 seconds RetCode: 0 Status: OK PackageFile: SBGNview_1.18.0.tar.gz PackageFileSize: 1.865 MiB