Package: SBGNview Version: 1.18.0 Command: rm -rf SBGNview.buildbin-libdir && mkdir SBGNview.buildbin-libdir && /Users/biocbuild/BBS/utils/build-universal.sh SBGNview_1.18.0.tar.gz /Library/Frameworks/R.framework/Resources/bin/R SBGNview.buildbin-libdir StartedAt: 2024-10-17 17:05:37 -0400 (Thu, 17 Oct 2024) EndedAt: 2024-10-17 17:07:13 -0400 (Thu, 17 Oct 2024) EllapsedTime: 95.9 seconds RetCode: 0 Status: OK PackageFile: SBGNview_1.18.0.tgz PackageFileSize: 2.076 MiB