Package: SBGNview Version: 1.18.0 Command: /Library/Frameworks/R.framework/Resources/bin/R CMD build --keep-empty-dirs --no-resave-data SBGNview StartedAt: 2024-10-16 22:52:39 -0400 (Wed, 16 Oct 2024) EndedAt: 2024-10-16 22:57:41 -0400 (Wed, 16 Oct 2024) EllapsedTime: 302.3 seconds RetCode: 0 Status: OK PackageFile: SBGNview_1.18.0.tar.gz PackageFileSize: 1.676 MiB