Package: SBGNview Version: 1.18.0 Command: rm -rf SBGNview.buildbin-libdir && mkdir SBGNview.buildbin-libdir && F:\biocbuild\bbs-3.19-bioc\R\bin\R.exe CMD INSTALL --build --library=SBGNview.buildbin-libdir SBGNview_1.18.0.tar.gz StartedAt: 2024-06-27 08:51:24 -0400 (Thu, 27 Jun 2024) EndedAt: 2024-06-27 08:52:16 -0400 (Thu, 27 Jun 2024) EllapsedTime: 51.9 seconds RetCode: 0 Status: OK PackageFile: SBGNview_1.18.0.zip PackageFileSize: 2.086 MiB