Package: SBGNview Version: 1.18.0 Command: F:\biocbuild\bbs-3.19-bioc\R\bin\R.exe CMD INSTALL SBGNview StartedAt: 2024-06-26 16:44:35 -0400 (Wed, 26 Jun 2024) EndedAt: 2024-06-26 16:45:27 -0400 (Wed, 26 Jun 2024) EllapsedTime: 51.7 seconds RetCode: 0 Status: OK