Package: SBGNview Version: 1.18.0 Command: chmod a+r SBGNview -R && E:\biocbuild\bbs-3.19-bioc\R\bin\R.exe CMD build --keep-empty-dirs --no-resave-data SBGNview StartedAt: 2024-10-16 21:41:50 -0400 (Wed, 16 Oct 2024) EndedAt: 2024-10-16 21:44:38 -0400 (Wed, 16 Oct 2024) EllapsedTime: 167.6 seconds RetCode: 0 Status: OK PackageFile: SBGNview_1.18.0.tar.gz PackageFileSize: 1.682 MiB