Package: SBMLR Version: 2.0.0 Maintainer: Tomas Radivoyevitch MaintainerEmail: radivot at gmail.com git_url: https://git.bioconductor.org/packages/SBMLR git_branch: RELEASE_3_19 git_last_commit: 5fb9ac6 git_last_commit_date: 2024-04-30 10:13:18 -0400 (Tue, 30 Apr 2024)