Package: SBMLR Version: 2.0.0 Command: /Library/Frameworks/R.framework/Resources/bin/R CMD build --keep-empty-dirs --no-resave-data SBMLR StartedAt: 2024-10-16 22:52:44 -0400 (Wed, 16 Oct 2024) EndedAt: 2024-10-16 22:53:16 -0400 (Wed, 16 Oct 2024) EllapsedTime: 32.0 seconds RetCode: 0 Status: OK PackageFile: SBMLR_2.0.0.tar.gz PackageFileSize: 274.7 KiB