Package: SBMLR Version: 2.0.0 Command: _R_CHECK_FORCE_SUGGESTS_=0 /Library/Frameworks/R.framework/Resources/bin/R CMD check --install=check:SBMLR.install-out.txt --library=/Library/Frameworks/R.framework/Resources/library --no-vignettes --timings SBMLR_2.0.0.tar.gz StartedAt: 2024-10-17 12:25:36 -0400 (Thu, 17 Oct 2024) EndedAt: 2024-10-17 12:26:52 -0400 (Thu, 17 Oct 2024) EllapsedTime: 76.2 seconds RetCode: 0 Status: OK CheckDir: SBMLR.Rcheck Warnings: 0