Package: SBMLR Version: 2.0.0 Command: chmod a+r SBMLR -R && F:\biocbuild\bbs-3.19-bioc\R\bin\R.exe CMD build --keep-empty-dirs --no-resave-data SBMLR StartedAt: 2024-06-26 21:37:50 -0400 (Wed, 26 Jun 2024) EndedAt: 2024-06-26 21:38:07 -0400 (Wed, 26 Jun 2024) EllapsedTime: 16.9 seconds RetCode: 0 Status: OK PackageFile: SBMLR_2.0.0.tar.gz PackageFileSize: 178.9 KiB