Package: SBMLR Version: 2.0.0 Command: chmod a+r SBMLR -R && E:\biocbuild\bbs-3.19-bioc\R\bin\R.exe CMD build --keep-empty-dirs --no-resave-data SBMLR StartedAt: 2024-10-16 21:42:01 -0400 (Wed, 16 Oct 2024) EndedAt: 2024-10-16 21:42:20 -0400 (Wed, 16 Oct 2024) EllapsedTime: 18.9 seconds RetCode: 0 Status: OK PackageFile: SBMLR_2.0.0.tar.gz PackageFileSize: 179.2 KiB