Package: SCAN.UPC Version: 2.46.0 Command: rm -rf SCAN.UPC.buildbin-libdir && mkdir SCAN.UPC.buildbin-libdir && /Users/biocbuild/BBS/utils/build-universal.sh SCAN.UPC_2.46.0.tar.gz /Library/Frameworks/R.framework/Resources/bin/R SCAN.UPC.buildbin-libdir StartedAt: 2024-06-10 00:37:41 -0400 (Mon, 10 Jun 2024) EndedAt: 2024-06-10 00:38:28 -0400 (Mon, 10 Jun 2024) EllapsedTime: 47.3 seconds RetCode: 0 Status: OK PackageFile: SCAN.UPC_2.46.0.tgz PackageFileSize: 552.5 KiB