Package: SCAN.UPC Version: 2.46.0 Command: /Library/Frameworks/R.framework/Resources/bin/R CMD build --keep-empty-dirs --no-resave-data SCAN.UPC StartedAt: 2024-06-09 18:02:02 -0400 (Sun, 09 Jun 2024) EndedAt: 2024-06-09 18:02:45 -0400 (Sun, 09 Jun 2024) EllapsedTime: 42.7 seconds RetCode: 0 Status: OK PackageFile: SCAN.UPC_2.46.0.tar.gz PackageFileSize: 688.8 KiB