Package: SCAN.UPC Version: 2.46.0 Command: /home/biocbuild/bbs-3.19-bioc/R/bin/R CMD INSTALL SCAN.UPC StartedAt: 2024-10-16 16:29:12 -0400 (Wed, 16 Oct 2024) EndedAt: 2024-10-16 16:29:44 -0400 (Wed, 16 Oct 2024) EllapsedTime: 32.2 seconds RetCode: 0 Status: OK