Package: SCAN.UPC Version: 2.46.0 Command: chmod a+r SCAN.UPC -R && F:\biocbuild\bbs-3.19-bioc\R\bin\R.exe CMD build --keep-empty-dirs --no-resave-data SCAN.UPC StartedAt: 2024-06-26 21:38:18 -0400 (Wed, 26 Jun 2024) EndedAt: 2024-06-26 21:39:03 -0400 (Wed, 26 Jun 2024) EllapsedTime: 44.8 seconds RetCode: 0 Status: OK PackageFile: SCAN.UPC_2.46.0.tar.gz PackageFileSize: 557.3 KiB