Package: SCAN.UPC Version: 2.46.0 Command: rm -rf SCAN.UPC.buildbin-libdir && mkdir SCAN.UPC.buildbin-libdir && E:\biocbuild\bbs-3.19-bioc\R\bin\R.exe CMD INSTALL --build --library=SCAN.UPC.buildbin-libdir SCAN.UPC_2.46.0.tar.gz StartedAt: 2024-10-17 08:34:00 -0400 (Thu, 17 Oct 2024) EndedAt: 2024-10-17 08:34:41 -0400 (Thu, 17 Oct 2024) EllapsedTime: 41.0 seconds RetCode: 0 Status: OK PackageFile: SCAN.UPC_2.46.0.zip PackageFileSize: 425 KiB