Package: SCAN.UPC Version: 2.46.0 Command: E:\biocbuild\bbs-3.19-bioc\R\bin\R.exe CMD INSTALL SCAN.UPC StartedAt: 2024-10-16 16:58:19 -0400 (Wed, 16 Oct 2024) EndedAt: 2024-10-16 16:59:01 -0400 (Wed, 16 Oct 2024) EllapsedTime: 42.6 seconds RetCode: 0 Status: OK