Package: SCBN Version: 1.22.0 Command: rm -rf SCBN.buildbin-libdir && mkdir SCBN.buildbin-libdir && /Users/biocbuild/BBS/utils/build-universal.sh SCBN_1.22.0.tar.gz /Library/Frameworks/R.framework/Resources/bin/R SCBN.buildbin-libdir StartedAt: 2024-10-15 20:07:28 -0400 (Tue, 15 Oct 2024) EndedAt: 2024-10-15 20:07:33 -0400 (Tue, 15 Oct 2024) EllapsedTime: 4.7 seconds RetCode: 0 Status: OK PackageFile: SCBN_1.22.0.tgz PackageFileSize: 691.8 KiB