Package: SCBN Version: 1.22.0 Command: /Library/Frameworks/R.framework/Resources/bin/R CMD build --keep-empty-dirs --no-resave-data SCBN StartedAt: 2024-10-16 22:56:34 -0400 (Wed, 16 Oct 2024) EndedAt: 2024-10-16 22:59:28 -0400 (Wed, 16 Oct 2024) EllapsedTime: 173.9 seconds RetCode: 0 Status: OK PackageFile: SCBN_1.22.0.tar.gz PackageFileSize: 516.3 KiB