Package: SCBN Version: 1.22.0 Command: /Library/Frameworks/R.framework/Resources/bin/R CMD INSTALL SCBN StartedAt: 2024-10-16 15:05:57 -0400 (Wed, 16 Oct 2024) EndedAt: 2024-10-16 15:06:12 -0400 (Wed, 16 Oct 2024) EllapsedTime: 14.8 seconds RetCode: 0 Status: OK