Package: SCBN Version: 1.22.0 Command: /home/biocbuild/bbs-3.19-bioc/R/bin/R CMD check --install=check:SCBN.install-out.txt --library=/home/biocbuild/bbs-3.19-bioc/R/site-library --timings SCBN_1.22.0.tar.gz StartedAt: 2024-10-17 04:44:23 -0400 (Thu, 17 Oct 2024) EndedAt: 2024-10-17 04:46:46 -0400 (Thu, 17 Oct 2024) EllapsedTime: 142.2 seconds RetCode: 0 Status: OK CheckDir: SCBN.Rcheck Warnings: 0