Package: SCBN Version: 1.22.0 Command: /home/biocbuild/bbs-3.19-bioc/R/bin/R CMD INSTALL SCBN StartedAt: 2024-10-16 15:49:18 -0400 (Wed, 16 Oct 2024) EndedAt: 2024-10-16 15:49:20 -0400 (Wed, 16 Oct 2024) EllapsedTime: 2.0 seconds RetCode: 0 Status: OK